BEGIN:VCALENDAR
METHOD:PUBLISH
PRODID:-//design-museum.de//NONSGML iCalcreator 2.6//
VERSION:2.0
X-WR-TIMEZONE:Europe/Berlin
BEGIN:VEVENT
UID:20230407T195429CEST-62011WjDz2@design-museum.de
DTSTAMP:20230407T175429Z
CATEGORIES:Workshop
DESCRIPTION: 85\,00 € pro Person\, Anmeldungen unter info(at)design-museu
 m.de
DTSTART:20160625T103000
LOCATION:Vitra Design Museum
SUMMARY:Workshop - PappDesign – Möbel aus Karton / WORKSHOP (DE)\n
END:VEVENT
END:VCALENDAR
