BEGIN:VCALENDAR
METHOD:PUBLISH
PRODID:-//design-museum.de//NONSGML iCalcreator 2.6//
VERSION:2.0
X-WR-TIMEZONE:Europe/Berlin
BEGIN:VEVENT
UID:20230407T195420CEST-9146rU57hi@design-museum.de
DTSTAMP:20230407T175420Z
CATEGORIES:Event
DESCRIPTION:Yael Mer und Shay Alkalay von Raw Edges sehen sich auf einer st
 ändigen Entdeckungsreise\, ihre Produkte und Installationen sind geprägt
  von einer beinahe kindlichen Neugierde. Farben\, Materialforschung und Ex
 perimente spielen in ihrer Arbeit eine wichtige Rolle. Mer und Alkalay gew
 ähren einen Blick hinter die Kulissen\, stellen ihre Designphilosophie vo
 r und sprechen über die Ausstellungsgestaltung für »Alexander Girard«.
  Eintritt frei
DTSTART:20160519T180000
LOCATION:Vitra Design Museum
SUMMARY:Event - Raw Edges – Entdeckungsreisen / TALK (EN)
END:VEVENT
END:VCALENDAR
