BEGIN:VCALENDAR
METHOD:PUBLISH
PRODID:-//design-museum.de//NONSGML iCalcreator 2.6//
VERSION:2.0
X-WR-TIMEZONE:Europe/Berlin
BEGIN:VEVENT
UID:20230407T195414CEST-3945jVSUnd@design-museum.de
DTSTAMP:20230407T175414Z
CATEGORIES:Workshop
DESCRIPTION:Alexander Girard (1907 – 1993) war einer der wichtigsten  Tex
 tildesigner des 20. Jahrhunderts. Während seiner  Zeit bei der  Firma Her
 man Miller  gestaltete er mehr als 300 Textilien.  Seine  Stoffentwürfe p
 lante er akribisch\, sodass sie trotz starker Farben  und Muster ihre Ausg
 eglichenheit und Ruhe bewahren. Nach einer kurzen Einführung zu Girards T
 extilien in der  Ausstellung »Alexander Girard. A Designer ́s Universe«
  entwerfen die Teilnehmer in diesem Nachmittagsworkshop eigene  Druckmotiv
 e und gestalten mit unterschiedlichen Textildruckverfahren ihre eigenen St
 offe für Kissenbezüge\,  Tischdecken\, Stoffservietten und andere Heimte
 xtilien.
DTSTART:20160521T130000
LOCATION:Vitra Design Museum
SUMMARY:Workshop - Print! Textiles Gestalten / WORKSHOP (DE)
END:VEVENT
END:VCALENDAR
