BEGIN:VCALENDAR
METHOD:PUBLISH
PRODID:-//design-museum.de//NONSGML iCalcreator 2.6//
VERSION:2.0
X-WR-TIMEZONE:Europe/Berlin
BEGIN:VEVENT
UID:20230407T193836CEST-1936W6d9RN@design-museum.de
DTSTAMP:20230407T173836Z
CATEGORIES:Event
DESCRIPTION:Mit dem Schaudepot hat das Architekturbüro Herzog &amp\; de Me
 uron ein Gebäude geschaffen\, in dem ein großer Teil der Möbelsammlung 
 des Vitra Design Museums dauerhaft der Öffentlichkeit präsentiert wird. 
 Jacques Herzog und Pierre de Meuron sprechen mit Rolf Fehlbaum\, Chairman 
 Emeritus von Vitra\, über das neue Gebäude und über das Sammeln und Aus
 stellen von Design. Eintritt frei\, Anmeldung: events@design-museum.de
DTSTART:20160603T180000
LOCATION:Vitra Design Museum
SUMMARY:Event - Das Schaudepot – Ein neuer Ort für Design / OPENING TALK
  (DE)
END:VEVENT
END:VCALENDAR
