BEGIN:VCALENDAR
METHOD:PUBLISH
PRODID:-//design-museum.de//NONSGML iCalcreator 2.6//
VERSION:2.0
X-WR-TIMEZONE:Europe/Berlin
BEGIN:VEVENT
UID:20230407T195433CEST-232549NoHv@design-museum.de
DTSTAMP:20230407T175433Z
CATEGORIES:Architekturführung
DESCRIPTION:Als Jugendlicher dachte sich der Designer Alexander Girard ein 
 Land aus\, malte dafür Landkarten\, Briefmarken und Geld und erfand versc
 hiedene Geheimsprachen. Unserer Fantasie sind keine Grenzen gesetzt: Wir e
 ntwickeln ein Wappen für unser Fantasieland und malen oder drucken es auf
  eine Stofffahne. Für Kinder von 6 bis 12 Jahren\, 7\,00 € pro Kind\, A
 nmeldung: info@design-museum.de
DTSTART:20160626T143000
LOCATION:Vitra Design Museum
SUMMARY:Architekturführung - Die Welt von Alexander Girard / KINDERFÜHRUN
 G (DE)
END:VEVENT
END:VCALENDAR
