BEGIN:VCALENDAR
METHOD:PUBLISH
PRODID:-//design-museum.de//NONSGML iCalcreator 2.6//
VERSION:2.0
X-WR-TIMEZONE:Europe/Berlin
BEGIN:VEVENT
UID:20230407T195214CEST-4892fmUVH8@design-museum.de
DTSTAMP:20230407T175214Z
CATEGORIES:Workshop
DESCRIPTION: Das Vitra Design Museum besitzt eine riesige Sammlung an Möbe
 ln\, Stühlen und Leuchten. Wir erkunden woher die Stühle stammen\, wer s
 ie entworfen hat\, wie sie hergestellt wurden und lösen knifflige Aufgabe
 n. Danach bauen wir eigene Stuhlminiaturen. Für Kinder von 6 bis 12 Jahre
 n\, 7\,00 € pro Kind\, Anmeldung: info@design-museum.de
DTSTART:20160612T143000
LOCATION:Vitra Design Museum
SUMMARY:Workshop - Mein Lieblingsstuhl – Entdecke das Schaudepot / KINDER
 FÜHRUNG (DE)
END:VEVENT
END:VCALENDAR
