BEGIN:VCALENDAR
METHOD:PUBLISH
PRODID:-//design-museum.de//NONSGML iCalcreator 2.6//
VERSION:2.0
X-WR-TIMEZONE:Europe/Berlin
BEGIN:VEVENT
UID:20230407T195142CEST-6522vt6Vxh@design-museum.de
DTSTAMP:20230407T175142Z
CATEGORIES:Ausstellung
DESCRIPTION:Die Designerinnen Desiree Heiss und Ines Kaag bearbeiten mit ih
 rem Label Bless seit 1997 gemeinsam transdisziplinäre Projekte. In ihren 
 Objekten und Produkten vermischen sich Kunst und Design\, Mode und Archite
 ktur sowie Business und soziale Praxis. Für das Projekt »Workout« verwa
 ndeln siedie Vitra Design Museum Gallery in einen experimentellen Werkraum
 \, in dem der Besucher aktivmit seiner digitalen Arbeitswelt konfrontiert 
 wird. An den von Bless konzipierten Objekten zeigen sie auf\, wie sich Arb
 eit und Bewegung verbinden lassen – mit humorvollen und überraschenden 
 Kreationen\, die die Zukunft der Arbeit verändern können.
DTSTART:20160610T180000
LOCATION:Vitra Design Museum Gallery
SUMMARY:Ausstellung - BLESS N° 56 Worker’s Delight / ERÖFFNUNG
END:VEVENT
END:VCALENDAR
