BEGIN:VCALENDAR
METHOD:PUBLISH
PRODID:-//design-museum.de//NONSGML iCalcreator 2.6//
VERSION:2.0
X-WR-TIMEZONE:Europe/Berlin
BEGIN:VEVENT
UID:20230407T195216CEST-8248UJsdH6@design-museum.de
DTSTAMP:20230407T175216Z
CATEGORIES:Ausstellung
DESCRIPTION:Vitra Design Museum Gallery\n\nAls es am 28. September 2014 in 
 Hongkong zu spontanen Studentenprotesten gegen eine angekündigte Wahlrefo
 rm kam\, waren in den internationalen Medien nicht nur die Demonstranten\,
  sondern auch ihre vielfältigen selbstgestalteten Objekte und Infrastrukt
 uren zu sehen. Aus Alltagsgegenständen wurden Barrikaden\, Obdach und Sku
 lpturen. Mit Regenschirmen\, die der Bewegung den Namen »Umbrella Movemen
 t« gaben\, schützte man sich gegen Tränengaseinsätze der Polizei. Die 
 Ausstellung präsentiert diesen Akt des zivilen Ungehorsams anhand der Obj
 ekte\, die von der Bewegung hervorgebracht wurden. Sie zeigt\, dass durch 
 Design nicht nur Produkte gestaltet werden\, sondern dass es auch ein wich
 tiges Instrument der Politik\, Kommunikation und sozialer Innovation sein 
 kann. Mehr
DTSTART:20160226T000000
DTEND:20160530T000000
LOCATION:Vitra Design Museum
SUMMARY:Ausstellung - Objection!
END:VEVENT
END:VCALENDAR
