BEGIN:VCALENDAR
METHOD:PUBLISH
PRODID:-//design-museum.de//NONSGML iCalcreator 2.6//
VERSION:2.0
X-WR-TIMEZONE:Europe/Berlin
BEGIN:VEVENT
UID:20230407T190326CEST-8983UiVHoW@design-museum.de
DTSTAMP:20230407T170326Z
CATEGORIES:Ausstellung
DESCRIPTION:Museum\n \n Alexander Girard (1907– 1993) war einer der bedeu
 tendsten modernen Textildesigner und Innenarchitekten des 20. Jahrhunderts
 . Er arbeitete eng mit Designern wie Charles Eames und George Nelson zusam
 men und verband Einflüsse der Pop Art und der Folk Art zu einer farbenfro
 hen\, opulenten Formensprache\, deren Einfluss bis heute nachwirkt. Zu Gir
 ards bekanntesten Interieurs gehören das Irwin Miller House in Columbus\,
  Indiana (1953\, Architekt: Eero Saarinen)\, sein eigenes Haus in Santa Fe
  (ab 1953) sowie die Restaurants La Fonda Del Sol (1960) und L’Etoile (1
 966) in New York. Für die Fluggesellschaft Braniff International gestalte
 te Girard 1965 das komplette Corporate Design\, vom Flugticket über die L
 ounges bis zu den Flugzeugen. Im Laufe seines Lebens sammelte der amerikan
 ische Designer mit italienischen Wurzeln mehr als 100.000 Folk Art Objekte
  aus aller Welt\, die er als Inspirationsquelle für seine eigene Arbeit s
 ah\, die aber auch die Grundlage für spektakuläre Ausstellungsinstallati
 onen bildeten. Die erste umfassende Retrospektive auf das Gesamtwerk Girar
 ds in Europa schöpft aus dessen privatem Nachlass im Vitra Design Museum\
 , der zu diesem Anlass erstmals wissenschaftlich aufgearbeitet wird. Mehr
DTSTART:20160312T000000
DTEND:20170123T000000
LOCATION:Vitra Design Museum
SUMMARY:Ausstellung - Alexander Girard. A Designer’s Universe
END:VEVENT
END:VCALENDAR
