BEGIN:VCALENDAR
METHOD:PUBLISH
PRODID:-//design-museum.de//NONSGML iCalcreator 2.6//
VERSION:2.0
X-WR-TIMEZONE:Europe/Berlin
BEGIN:VEVENT
UID:20230407T195142CEST-8665PZXVVu@design-museum.de
DTSTAMP:20230407T175142Z
CATEGORIES:Ausstellung
DESCRIPTION:Gallery\n\nDie Designerinnen Desiree Heiss und Ines Kaag bearbe
 iten mit ihrem Label Bless seit 1997 gemeinsam transdisziplinäre Projekte
 . In ihren Objekten und Produkten vermischen sich Kunst und Design\, Mode 
 und Architektur sowie Business und soziale Praxis. Für das Projekt »Work
 out« verwandeln sie die Vitra Design Museum Gallery in einen experimentel
 len Werkraum\, in dem der Besucher aktiv mit seiner digitalen Arbeitswelt 
 konfrontiert wird. An den von Bless konzipierten Objekten zeigen sie auf\,
  wie sich Arbeit und Bewegung verbinden lassen – mit humorvollen und üb
 erraschenden Kreationen\, die die Zukunft der Arbeit verändern können. M
 ehr\n\n\n
DTSTART:20160610T000000
DTEND:20161010T000000
LOCATION:Vitra Design Museum
SUMMARY:Ausstellung - BLESS N° 56 Worker’s Delight
END:VEVENT
END:VCALENDAR
