BEGIN:VCALENDAR
METHOD:PUBLISH
PRODID:-//design-museum.de//NONSGML iCalcreator 2.6//
VERSION:2.0
X-WR-TIMEZONE:Europe/Berlin
BEGIN:VEVENT
UID:20230407T193836CEST-1088seitzN@design-museum.de
DTSTAMP:20230407T173836Z
CATEGORIES:Event
DESCRIPTION:
DTSTART:20160603T190000
LOCATION:Vitra Design Museum
SUMMARY:Event - Das Schaudepot – Ein neuer Ort für Design / VERNISSAGE (
 DE)
END:VEVENT
END:VCALENDAR
