BEGIN:VCALENDAR
METHOD:PUBLISH
PRODID:-//design-museum.de//NONSGML iCalcreator 2.6//
VERSION:2.0
X-WR-TIMEZONE:Europe/Berlin
BEGIN:VEVENT
UID:20230407T195143CEST-3248FzxlUz@design-museum.de
DTSTAMP:20230407T175143Z
CATEGORIES:Architekturführung
DESCRIPTION:
DTSTART:20160610T150000
LOCATION:Vitra Design Museum
SUMMARY:Architekturführung - Hinter den Kulissen / FÜHRUNG (DE)
END:VEVENT
END:VCALENDAR
