BEGIN:VCALENDAR
METHOD:PUBLISH
PRODID:-//design-museum.de//NONSGML iCalcreator 2.6//
VERSION:2.0
X-WR-TIMEZONE:Europe/Berlin
BEGIN:VEVENT
UID:20230407T192334CEST-5035S4Eugi@design-museum.de
DTSTAMP:20230407T172334Z
CATEGORIES:Architekturführung
DESCRIPTION:
DTSTART:20160604T130000
LOCATION:Vitra Design Museum
SUMMARY:Architekturführung - Highlights aus der Sammlung / FÜHRUNG (DE)
END:VEVENT
END:VCALENDAR
