BEGIN:VCALENDAR
METHOD:PUBLISH
PRODID:-//design-museum.de//NONSGML iCalcreator 2.6//
VERSION:2.0
X-WR-TIMEZONE:Europe/Berlin
BEGIN:VEVENT
UID:20230407T190325CEST-7310XvnglP@design-museum.de
DTSTAMP:20230407T170325Z
CATEGORIES:Ausstellung
DESCRIPTION:Schaudepot\n\nDie erste Wechselausstellung des Schaudepots ist 
 dem Radical Design gewidmet\, einer DesignstrÃ¶mung\, die ihren HÃ¶hepunkt
  am Ende der 1960er und Anfang der 1970er Jahre in Italien erreichte und a
 ls eine der wichtigsten Avantgardebewegungen der Designgeschichte gilt. Mi
 t Manifesten\, unkonventioneller Formensprache\, transdisziplinÃ¤rer Arbei
 tsweise und utopischen Gestaltungsideen protestierten die Vertreter des Ra
 dical Design gegen den Funktionalismus und den etablierten Geschmack in De
 sign und Architektur. Damit zeigten sie\, dass Designer und Architekten si
 ch nicht nur als Dienstleister in einem kommerziellen Kontext verstehen mÃ
 ¼ssen\, sondern sich aktiv und kritisch mit den gesellschaftlichen und pol
 itischen Themen auseinandersetzen kÃ¶nnen. Mehr \n\n\n\n \n\n
DTSTART:20160604T000000
DTEND:20161114T000000
LOCATION:Vitra Design Museum
SUMMARY:Ausstellung - Radical Design
END:VEVENT
END:VCALENDAR
