BEGIN:VCALENDAR
METHOD:PUBLISH
PRODID:-//design-museum.de//NONSGML iCalcreator 2.6//
VERSION:2.0
X-WR-TIMEZONE:Europe/Berlin
BEGIN:VEVENT
UID:20230407T195433CEST-5210h2kzva@design-museum.de
DTSTAMP:20230407T175433Z
CATEGORIES:Architekturführung
DESCRIPTION:
DTSTART:20160515T113000
LOCATION:Vitra Design Museum
SUMMARY:Architekturführung - »Alexander Girard« / AUSSTELLUNGSFÜHRUNG (
 DE)
END:VEVENT
END:VCALENDAR
