BEGIN:VCALENDAR
METHOD:PUBLISH
PRODID:-//design-museum.de//NONSGML iCalcreator 2.6//
VERSION:2.0
X-WR-TIMEZONE:Europe/Berlin
BEGIN:VEVENT
UID:20230407T185746CEST-0184ciob5P@design-museum.de
DTSTAMP:20230407T165746Z
CATEGORIES:Ausstellung
DESCRIPTION:Vitra Schaudepot\nDas Vitra Schaudepot\, in dem die Sammlung de
 s Vitra Design Museums präsentiert wird\, widmet sich bis Mai 2024 ganz d
 em Thema Farbe. Dafür hat die niederländische Designerin Sabine Marcelis
  das Schaudepot mit einer ebenso einfachen wie beeindruckenden Geste umges
 taltet: Sie hat die rund 400 gezeigten Sammlungsobjekte nach Farbe arrangi
 ert. Dies ermöglicht einen völlig neuen Blick auf die Sammlung und faszi
 nierende Querverweise über Epochen und Stile hinweg. Ergänzt wird die Pr
 äsentation um historische und zeitgenössische Objekte und Dokumente aus 
 dem Archiv des Museums\, die die Bedeutung von Farben im Design zusätzlic
 h veranschaulichen.\n \n Weitere Informationen\nFoto: Bettina Matthiessen
DTSTART:20220514T000000
DTEND:20240513T000000
LOCATION:Vitra Design Museum
SUMMARY:Ausstellung - Colour Rush! Eine Installation von Sabine Marcelis\n
END:VEVENT
END:VCALENDAR
