BEGIN:VCALENDAR
METHOD:PUBLISH
PRODID:-//design-museum.de//NONSGML iCalcreator 2.6//
VERSION:2.0
X-WR-TIMEZONE:Europe/Berlin
BEGIN:VEVENT
UID:20230407T185708CEST-8679i6XHjd@design-museum.de
DTSTAMP:20230407T165708Z
CATEGORIES:Ausstellung
DESCRIPTION:Vitra Design Museum\nEine Ausstellung des Vitra Design Museums\
 , der Wüstenrot Stiftung und des Nieuwe Instituut\nGärten sind Spiegel v
 on Identitäten\, Träumen und Visionen\, sie haben tiefe kulturelle Wurze
 ln und sind Ausdruck unserer Beziehung zur Natur. Heute ist der Garten vie
 l mehr als ein romantisches Idyll. Gärten sind zu Orten der Avantgarde ge
 worden\, dienen als Experimentierfelder für soziale Gerechtigkeit\, Biodi
 versität und eine nachhaltige Zukunft. Mit »Garden Futures« präsentier
 t das Vitra Design Museum nun erstmals eine große Ausstellung zur Geschic
 hte und Zukunft des modernen Gartens. Welche Ideen und Vorstellungen haben
  unser heutiges Gartenideal geprägt? Welchen Beitrag leisten Gärten zu e
 iner Zukunft\, die für alle lebenswert ist? Diese Fragen untersucht die A
 usstellung anhand von vielfältigen Beispielen aus Design\, Alltagskultur 
 und Landschaftsarchitektur – vom Liegestuhl bis zur vertikalen Stadtfarm
 \, von zeitgenössischen Community-Gärten über begrünte Gebäude bis hi
 n zu Gärten von GestalterInnen und KünstlerInnen wie Roberto Burle Marx\
 , Mien Ruys oder Derek Jarman. Gestaltet wird die Ausstellung durch das be
 kannte italienische Designduo Formafantasma.\nWeitere Informationen\nAbb.:
  © Vitra Design Museum\, Illustration: Lorenz Klingebiel und Dominik Krau
 ss\; basierend auf dem Foto: Les Jardins de Marqueyssac\, Dordogne\, Franc
 e\, © Laugery
DTSTART:20230325T000000
DTEND:20231004T000000
LOCATION:Vitra Design Museum
SUMMARY:Ausstellung - Garden Futures: Designing with Nature
END:VEVENT
END:VCALENDAR
