BEGIN:VCALENDAR
METHOD:PUBLISH
PRODID:-//design-museum.de//NONSGML iCalcreator 2.6//
VERSION:2.0
X-WR-TIMEZONE:Europe/Berlin
BEGIN:VEVENT
UID:20230407T185647CEST-14181phpj1@design-museum.de
DTSTAMP:20230407T165647Z
CATEGORIES:Ausstellung
DESCRIPTION:Vitra Design Museum Gallery\nKuratiert von Ahmed und Rashid Bin
  Shabib\nDer Klimawandel ist zunehmend spürbar und die Erderwärmung stel
 lt unsere Städte vor große Herausforderungen. Die Ausstellung »Hot Citi
 es« richtet den Blick auf die Metropolen der arabischsprachigen Welt: Wie
  gehen diese Städte und ihre BewohnerInnen mit dem extremen Klima der Reg
 ion um? Was können wir von dortigen Lösungen in Architektur und Städteb
 au lernen\, um unsere gebaute Umwelt klimaresistenter zu machen? Die Schau
  zeigt\, wie die Verbindung vernakulärer Traditionen mit modernen Technol
 ogien Lösungen für drängende Probleme der Zukunft bieten kann. Sie prä
 sentiert Fallstudien urbaner Bauprojekte\, die Antworten auf viele Fragen 
 geben\, die der Klimawandel jetzt aufwirft.\nWeitere Informationen\nAbb.: 
 Tuwaiq Palace Riyadh\, Saudi Arabia\, Foto: Rashid &amp\; Ahmed Bin Shabib
DTSTART:20230429T000000
DTEND:20231106T000000
LOCATION:Vitra Design Museum
SUMMARY:Ausstellung - Hot Cities: Lessons from Arab Architecture
END:VEVENT
END:VCALENDAR
