BEGIN:VCALENDAR
METHOD:PUBLISH
PRODID:-//design-museum.de//NONSGML iCalcreator 2.6//
VERSION:2.0
X-WR-TIMEZONE:Europe/Berlin
BEGIN:VEVENT
UID:20230407T185650CEST-616241bUKu@design-museum.de
DTSTAMP:20230407T165650Z
CATEGORIES:Weitere Führung
DESCRIPTION:Seit 2020 bereichert ein Garten des niederländischen Gestalter
 s Piet Oudolf den Vitra Campus. Die kunstvoll komponierte Wildnis aus etwa
  30.000 Pflanzen vermittelt eine neue Perspektive auf die umliegende Archi
 tektur und nimmt das ganze Jahr über immer wieder neue Farbe an. Lernen S
 ie die 4000 Quadratmeter große Anlage bei einem geführten Rundgang genau
 er kennen.\nEnglischsprachige Führung:\n Ab 6. Mai bis 4. November 2023\,
  jeden Samstag\, 11 Uhr\, Vitra Design Museum
DTSTART:20230624T110000
DTEND:20230624T110000
LOCATION:Vitra Design Museum
SUMMARY:Weitere Führung - Oudolf Garten | FÜHRUNG (EN)
END:VEVENT
END:VCALENDAR
