BEGIN:VCALENDAR
METHOD:PUBLISH
PRODID:-//design-museum.de//NONSGML iCalcreator 2.6//
VERSION:2.0
X-WR-TIMEZONE:Europe/Berlin
BEGIN:VEVENT
UID:20230407T185734CEST-8868Ffww07@design-museum.de
DTSTAMP:20230407T165734Z
CATEGORIES:Weitere Führung
DESCRIPTION:Bei einem geführten Rundgang durch die Produktionshalle von Fr
 ank Gehry erleben Sie beispielhaft einzelne Fertigungsschritte des Alumini
 um Chair. Der 1958 von Charles &amp\; Ray Eames entwickelte Stuhl gilt als
  einer der bedeutendsten Möbelentwürfe des 20. Jahrhunderts. Abgerundet 
 wird die Produktionsführung durch eine Vorstellung des Vitra Testcenters.
 \nJeden Mittwoch und Donnerstag 12:30 Uhr\, Vitra Design Museum\nFür Grup
 penbuchungen: Informationsblatt Führungen\n Für Rückfragen erreichen Si
 e uns unter info@design-museum.de oder T+49.7621.702.3200
DTSTART:20230525T123000
DTEND:20230525T123000
LOCATION:Vitra Design Museum
SUMMARY:Weitere Führung - Produktionsführung (DE)
END:VEVENT
END:VCALENDAR
