BEGIN:VCALENDAR
METHOD:PUBLISH
PRODID:-//design-museum.de//NONSGML iCalcreator 2.6//
VERSION:2.0
X-WR-TIMEZONE:Europe/Berlin
BEGIN:VEVENT
UID:20230407T185705CEST-6807oWuNzH@design-museum.de
DTSTAMP:20230407T165705Z
CATEGORIES:Workshop
DESCRIPTION:Ob spektakuläre Fassaden oder komplexe textile Strukturen: Vie
 le Faltwerke in Architektur und Design sind inspiriert von traditioneller 
 Papierfaltkunst. Unter Anleitung der Papierkünstlerin Elke Muche werden v
 erschiedene Falttechniken geübt und gestalterische Möglichkeiten ausprob
 iert. Anschließend entstehen voluminöse Faltskulpturen\, aus denen Licht
 objekte oder Vasen entwickelt werden können.\n85\,00 € pro Person\n Dau
 er: 6 Stunden\nTickets
DTSTART:20230513T103000
LOCATION:Vitra Schaudepot
SUMMARY:Workshop - Faltskulpturen | Special Workshop (DE)
END:VEVENT
END:VCALENDAR
