BEGIN:VCALENDAR
METHOD:PUBLISH
PRODID:-//design-museum.de//NONSGML iCalcreator 2.6//
VERSION:2.0
X-WR-TIMEZONE:Europe/Berlin
BEGIN:VEVENT
UID:20230407T185732CEST-303133uJsX@design-museum.de
DTSTAMP:20230407T165732Z
CATEGORIES:Architekturführung
DESCRIPTION:
DTSTART:20230626T110000
DTEND:20230626T110000
LOCATION:Start: Vitra Schaudepot
SUMMARY:Architekturführung - Architekturführung (DE)
END:VEVENT
END:VCALENDAR
