BEGIN:VCALENDAR
METHOD:PUBLISH
PRODID:-//design-museum.de//NONSGML iCalcreator 2.6//
VERSION:2.0
X-WR-TIMEZONE:Europe/Berlin
BEGIN:VEVENT
UID:20230407T195257CEST-5850fk9koa@design-museum.de
DTSTAMP:20230407T175257Z
CATEGORIES:Architekturführung
DESCRIPTION:
DTSTART:20230329T110000
LOCATION:Start: Vitra Schaudepot
SUMMARY:Architekturführung - Architekturführung (DE)
END:VEVENT
END:VCALENDAR
