BEGIN:VCALENDAR
METHOD:PUBLISH
PRODID:-//design-museum.de//NONSGML iCalcreator 2.6//
VERSION:2.0
X-WR-TIMEZONE:Europe/Berlin
BEGIN:VEVENT
UID:20230407T195206CEST-8741N8j1Ex@design-museum.de
DTSTAMP:20230407T175206Z
CATEGORIES:Ausstellungsführung
DESCRIPTION:Im Design spielen Farben eine zentrale Rolle. Die niederländis
 che Designerin Sabine Marcelis hat das Schaudepot mit einer einfachen wie 
 beeindruckenden Geste umgestaltet: Sie hat die Highlights der Sammlung des
  Vitra Design Museums\, darunter ikonenhafte Stücke von DesignerInnen wie
  Arne Jacobsen\, Aino  Aalto\, Verner Panton und Charles &amp\; Ray Eames\
 , aber auch anonyme Entwürfe nach Farbe arrangiert. In der Führung ergeb
 en sich faszinierende Querverweise über Epochen und Stile\, lernen Sie di
 e Hintergründe des monumentalen Farberlebnis kennen.
DTSTART:20230401T140000
LOCATION:Vitra Schaudepot
SUMMARY:Ausstellungsführung - »Colour Rush!« – Führung durch das Vitr
 a Schaudepot (DE)
END:VEVENT
END:VCALENDAR
