BEGIN:VCALENDAR
METHOD:PUBLISH
PRODID:-//design-museum.de//NONSGML iCalcreator 2.6//
VERSION:2.0
X-WR-TIMEZONE:Europe/Berlin
BEGIN:VEVENT
UID:20230407T185638CEST-7123ZVsjTt@design-museum.de
DTSTAMP:20230407T165638Z
CATEGORIES:Workshop
DESCRIPTION:Licht prägt unsere Umwelt und übt eine ungebrochene Faszinati
 on auf uns aus. Zeitgenössische DesignerInnen verwenden oft Recyclingmate
 rialien wie Kunststoffe\, Textilien und Holz für eindrucksvolle Lichtskul
 pturen und Leuchten. Nach einer Einführung in das Thema entwerfen und ges
 talten die TeilnehmerInnen eigene Lichtobjekte aus verschiedenen Materiali
 en.\n85\,00 € pro Person\n Dauer: 6 Stunden
DTSTART:20230610T103000
DTEND:20230610T163000
LOCATION:Vitra Schaudepot
SUMMARY:Workshop - ReDesign – Licht und Leuchten | WORKSHOP (DE)
END:VEVENT
END:VCALENDAR
