BEGIN:VCALENDAR
METHOD:PUBLISH
PRODID:-//design-museum.de//NONSGML iCalcreator 2.6//
VERSION:2.0
X-WR-TIMEZONE:Europe/Berlin
BEGIN:VEVENT
UID:20230407T195407CEST-8683V2U4hv@design-museum.de
DTSTAMP:20230407T175407Z
CATEGORIES:Workshop
DESCRIPTION:Wichtige DesignerInnen des 20. Jahrhunderts wie Alexander Girar
 d oder Maija Isola haben mit Siebdruck gearbeitet – sie prägen bis heut
 e Grafik- und Modedesign. Nach einer Einführung in die Technik des Siebdr
 ucks entwerfen die TeilnehmerInnen des Workshops eigene Motive und gestalt
 en Textilien\, Postkarten und Plakate mithilfe dieser spannenden Drucktech
 nik.\n85\,00 € pro Person\n Dauer: 6 Stunden
DTSTART:20230325T103000
DTEND:20230325T163000
LOCATION:Vitra Schaudepot
SUMMARY:Workshop - Print! Experimentieren mit Siebdruck | WORKSHOP (DE)
END:VEVENT
END:VCALENDAR
