BEGIN:VCALENDAR
METHOD:PUBLISH
PRODID:-//design-museum.de//NONSGML iCalcreator 2.6//
VERSION:2.0
X-WR-TIMEZONE:Europe/Berlin
BEGIN:VEVENT
UID:20230407T185716CEST-3264sj7iGX@design-museum.de
DTSTAMP:20230407T165716Z
CATEGORIES:Event
DESCRIPTION:Mit seinem 2007 in Brüssel gegründeten Büro hat der Landscha
 ftsarchitekt\, Bauingenieur und Architekt Bas Smets bereits mehr als 50 Pr
 ojekte in über 12 Ländern verwirklicht. Seine Projekte reichen von terri
 torialen Visionen bis zu infrastrukturellen Landschaften\, von großen Par
 ks bis zu privaten Gärten\, von Stadtzentren bis zu Filmkulissen. Sein wo
 hl bekanntester Entwurf\, der bis 2027 umgesetzt werden soll\, dient der N
 eugestaltung des öffentlichen Raums um die Kathedrale Notre-Dame in Paris
 . In seinem Vortrag stellt Bas Smets seine Projekte vor und erläutert die
  Bedeutung von Grün in der Stadt.\n \n Eintritt frei\, ohne Anmeldung
DTSTART:20230525T183000
DTEND:20230525T183000
LOCATION:Vitra Schaudepot
SUMMARY:Event - Die Stadt als Garten: Bas Smets | TALK (EN)
END:VEVENT
END:VCALENDAR
