BEGIN:VCALENDAR
METHOD:PUBLISH
PRODID:-//design-museum.de//NONSGML iCalcreator 2.6//
VERSION:2.0
X-WR-TIMEZONE:Europe/Berlin
BEGIN:VEVENT
UID:20230407T195237CEST-6685Lov98m@design-museum.de
DTSTAMP:20230407T175237Z
CATEGORIES:Event
DESCRIPTION:Der Architekt Stefano Boeri erlangte mit den begrünten Wohntü
 rmen seines Mailänder »Bosco Verticale« (2014) internationale Bekannthe
 it. Um den urbanen Raum möglichst effektiv zu nutzen\, entwarf er eine Fa
 ssade mit Tausenden von Pflanzen\, die seitdem das Mikroklima verbessern\,
  Lärm\, Staub und Hitze verringern und neue Lebensräume für Insekten un
 d Vögel schaffen. Sind vertikale Gärten ein Versprechen auf lebenswerter
 e Städte? Können sie dazu beitragen\, die Städte zu Orten mit hoher Art
 envielfalt zu machen? Stefano Boeri stellt seine Projekte vor und beantwor
 tet Ihre Fragen.\n \n Eintritt frei\, ohne Anmeldung
DTSTART:20230330T183000
LOCATION:Vitra Schaudepot
SUMMARY:Event - Vertikale Gärten: Stefano Boeri | TALK (EN)
END:VEVENT
END:VCALENDAR
