BEGIN:VCALENDAR
METHOD:PUBLISH
PRODID:-//design-museum.de//NONSGML iCalcreator 2.6//
VERSION:2.0
X-WR-TIMEZONE:Europe/Berlin
BEGIN:VEVENT
UID:20230407T185653CEST-5035v36Jok@design-museum.de
DTSTAMP:20230407T165653Z
CATEGORIES:Event
DESCRIPTION:Die Merian Gärten sind ein magischer Ort. Der ehemalige Landsi
 tz des Agronomen und Philanthropen Christoph Merian ist heute ein botanisc
 her Garten und wertvoller Rückzugsort im urbanen Raum. Bettina Hamel\, Ge
 schäftsführerin der Merian Gärten\, und Katrin Hager\, Leiterin der Ver
 mittlung am Vitra Design Museum\, sprechen über die Entstehung unseres he
 utigen Gartenideals. Einblicke in die Geschichte der Merian Gärten verans
 chaulichen den Wandel der Funktionen im Zuge der Urbanisierung und zeigen 
 die Bedeutung von Gärten für eine nachhaltigere Zukunft auf.\nEine Veran
 staltung in Kooperation mit der Wüstenrot Stiftung\n \n Eintritt frei\, o
 hne Anmeldung\n Treffpunkt: Neue Scheune
DTSTART:20230424T180000
LOCATION:Merian Gärten Basel
SUMMARY:Event - Garten und Stadt: Die Merian Gärten | SPECIAL (DE)
END:VEVENT
END:VCALENDAR
