BEGIN:VCALENDAR
METHOD:PUBLISH
PRODID:-//design-museum.de//NONSGML iCalcreator 2.6//
VERSION:2.0
X-WR-TIMEZONE:Europe/Berlin
BEGIN:VEVENT
UID:20230407T185655CEST-6071nl7bIR@design-museum.de
DTSTAMP:20230407T165655Z
CATEGORIES:Event
DESCRIPTION:»Hot Cities« richtet den Blick auf die arabischsprachige Welt
 : Wie gehen Städte mit dem extremen Klima der Region um?\n Was können wi
 r von dortigen Lösungen in Architektur und Städtebau lernen\, um unsere 
 Umwelt klimaresistenter zu machen? »Hot Cities« zeigt\, wie die Verbindu
 ng vernakulärer Traditionen mit modernen Technologien Lösungen für die 
 Zukunft bieten kann. Die Ausstellung präsentiert Fallstudien von Bauproje
 kten\, die Antworten auf viele Fragen geben\, die der Klimawandel jetzt au
 fwirft. Lernen Sie die Kuratoren Ahmed und Rashid bin Shabib kennen und st
 oßen Sie mit uns auf die neue Ausstellung an!\n \n Eintritt frei\, ohne A
 nmeldung
DTSTART:20230428T180000
LOCATION:Vitra Design Museum Gallery
SUMMARY:Event - Hot Cities: Lessons from Arab Architecture | OPENING (EN)
END:VEVENT
END:VCALENDAR
