BEGIN:VCALENDAR
METHOD:PUBLISH
PRODID:-//design-museum.de//NONSGML iCalcreator 2.6//
VERSION:2.0
X-WR-TIMEZONE:Europe/Berlin
BEGIN:VEVENT
UID:20230407T185651CEST-423127KRvI@design-museum.de
DTSTAMP:20230407T165651Z
CATEGORIES:Event
DESCRIPTION:Seit 2022 ergänzt ein weiteres Highlight japanischer Architekt
 ur das einzigartige Ensemble auf dem Vitra Campus: das Umbrella House von 
 Kazuo Shinohara (1925–2006). Bei der Besichtigung des ursprünglich 1961
  in Tokio errichteten Gebäudes erfahren Sie mehr über die vielfältige B
 aukultur Japans und entdecken Bezüge zu weiteren Bauten japanischer Archi
 tekten auf dem Vitra Campus – dem Konferenzpavillon von Tadao Ando (1993
 ) und der Fabrikhalle von SANAA (2012).\n \n Treffpunkt: Vitra Design Muse
 um Gallery\n Deutsch: 11\, 12\, 14 und 15 Uhr\n Englisch: 13 und 16 Uhr\n 
 Eintritt frei\n Anmeldung: www.openhouse-basel.org
DTSTART:20230507T110000
DTEND:20230507T160000
LOCATION:Vitra Design Museum
SUMMARY:Event - Open House Basel: Japanische Architektur auf dem Vitra Camp
 us | SPECIAL (DE/EN)
END:VEVENT
END:VCALENDAR
