BEGIN:VCALENDAR
METHOD:PUBLISH
PRODID:-//design-museum.de//NONSGML iCalcreator 2.6//
VERSION:2.0
X-WR-TIMEZONE:Europe/Berlin
BEGIN:VEVENT
UID:20230407T185707CEST-3014OLCKVt@design-museum.de
DTSTAMP:20230407T165707Z
CATEGORIES:Event
DESCRIPTION:Das Projekt »Queer Nature« erforscht das wenig bekannte\, oft
  übersehene und seltene intime Verhalten der botanischen Welt. Die Unters
 uchung der Beziehungen zwischen ökologischem Denken und Queer-Theorie fei
 ert die Vielzahl von Formen\, Farben und Geschlechtern\, die um uns herum 
 existieren. Die französische Landschaftsarchitektin Céline Baumann führ
 t bei diesem Spaziergang über den Vitra Campus und in der umgebenden Natu
 r in ihre Theorie der Queer Nature ein und erläutert\, wie sie die Vielfa
 lt im Pflanzenreich entdeckte und was sie zu deren ausführlicher Untersuc
 hung führte.\nEine Veranstaltung in Kooperation mit der Wüstenrot Stiftu
 ng\n \n Eintritt frei\, Anmeldung: events@design-museum.de
DTSTART:20230504T180000
DTEND:20230504T180000
LOCATION:Vitra Design Museum
SUMMARY:Event - Queer Nature Walk: Céline Baumann | SPECIAL (DE)
END:VEVENT
END:VCALENDAR
