BEGIN:VCALENDAR
METHOD:PUBLISH
PRODID:-//design-museum.de//NONSGML iCalcreator 2.6//
VERSION:2.0
X-WR-TIMEZONE:Europe/Berlin
BEGIN:VEVENT
UID:20230407T195411CEST-72103gLsCp@design-museum.de
DTSTAMP:20230407T175411Z
CATEGORIES:Event
DESCRIPTION:18 Uhr\, Feuerwehrhaus\n 19 Uhr\, Vitra Design Museum\n \n Mit 
 Â»Garden FuturesÂ« prÃ¤sentiert das Vitra Design Museum erstmals eine groÃ
 Ÿe Ausstellung zur Geschichte und Zukunft des modernen Gartens. AnlÃ¤sslic
 h der ErÃ¶ffnung diskutieren die KuratorInnen Viviane Stappmanns (Vitra De
 sign Museum) und Marten Kuijpers (Nieuwe Instituut) mit Simone Farresin\, 
 MitbegrÃ¼nder des Designstudios Formafantasma\, Dr. Monika Egerer\, Profes
 sorin fÃ¼r Urbane Produktive Ã–kosysteme an der TUM\, und Gavin Munro\, Gr
 Ã¼nder des Designstudios Full Grown\, wie Ã¶kologische\, historische\, pol
 itische und soziale Faktoren die heutige Designdisziplin prÃ¤gen.\n \n Ein
 tritt frei\, Anmeldung: events@design-museum.de
DTSTART:20230324T180000
LOCATION:Vitra Design Museum
SUMMARY:Event - Garden Futures: Designing with Nature | OPENING (DE/EN)
END:VEVENT
END:VCALENDAR
