BEGIN:VCALENDAR
METHOD:PUBLISH
PRODID:-//design-museum.de//NONSGML iCalcreator 2.6//
VERSION:2.0
X-WR-TIMEZONE:Europe/Berlin
BEGIN:VEVENT
UID:20230407T185731CEST-43137tdkHC@design-museum.de
DTSTAMP:20230407T165731Z
CATEGORIES:Event
DESCRIPTION:Eine Führung durch die Ausstellung »Garden Futures: Designing
  with Nature« gibt Einblicke in die Grundideen\, die Vorbereitung und die
  Entstehung der Ausstellung. Ein kurzer gemeinsamer Besuch des Oudolf Gart
 ens schließt die Führung ab.\n \n 10\,00 € pro Person\, ohne Anmeldung
DTSTART:20230531T100000
LOCATION:Vitra Design Museum
SUMMARY:Event - Garden Futures: Designing with Nature | MITTWOCHSMATINEE (D
 E)
END:VEVENT
END:VCALENDAR
