BEGIN:VCALENDAR
METHOD:PUBLISH
PRODID:-//design-museum.de//NONSGML iCalcreator 2.6//
VERSION:2.0
X-WR-TIMEZONE:Europe/Berlin
BEGIN:VEVENT
UID:20230407T185652CEST-04143xbUd5@design-museum.de
DTSTAMP:20230407T165652Z
CATEGORIES:Event
DESCRIPTION:Seit Mitte des 19. Jahrhunderts bieten Schrebergärten Erholung
  im Grünen und die Möglichkeit zum Anbau von Gemüse. Die Nachfrage stei
 gt – doch auch vonseiten der Bauwirtschaft. Bei einem Rundgang durch die
  Gartenkolonie am Hörnli erläutert Dr. Karin Kook\, Leiterin Freizeitgä
 rten und Gartenberatung beim Kanton Basel Stadt\, die heutigen ökologisch
 en und sozialen Funktionen und stellt neue Konzepte vor. Einige GärtnerIn
 nen laden in ihren Garten ein und erzählen ihre Gartengeschichten. Der Au
 stausch kann im Anschluss in einem Gartenlokal fortgeführt werden.\n \n E
 intritt frei\, Anmeldung: events@design-museum.de
DTSTART:20230610T140000
LOCATION:Freizeitgärten am Hörnli\, Basel (CH)
SUMMARY:Event - Am Gartenzaun: Begegnungen im Garten\nIn Kooperation mit de
 r Wüstenrot Stiftung | SPECIAL (DE)
END:VEVENT
END:VCALENDAR
