BEGIN:VCALENDAR
METHOD:PUBLISH
PRODID:-//design-museum.de//NONSGML iCalcreator 2.6//
VERSION:2.0
X-WR-TIMEZONE:Europe/Berlin
BEGIN:VEVENT
UID:20230407T185637CEST-0033CHKWDU@design-museum.de
DTSTAMP:20230407T165637Z
CATEGORIES:Event
DESCRIPTION:Erleben Sie mit Ihrer Familie einen Tag in der Natur! Beginnend
  am Oudolf Garten lernen Sie bei einem Spaziergang mit dem Naturpädagogen
  Armin Wikmann am Tüllinger Berg verschiedene Gartenformen kennen und ent
 decken gemeinsam die gesellschaftliche\, kulturelle und ökologische Bedeu
 tung unterschiedlicher Lebensräume. Bei einem Picknick auf einer typische
 n Streuobstwiese ergibt sich die Möglichkeit zum Austausch und zur Reflex
 ion des Erlebten.\n \n Eintritt frei\, Anmeldung: events@design-museum.de
DTSTART:20230625T103000
LOCATION:Vitra Design Museum
SUMMARY:Event - Entdeckungsreise am Tüllinger Berg\nIn Kooperation mit der
  Wüstenrot Stiftung | SPECIAL (DE)
END:VEVENT
END:VCALENDAR
