BEGIN:VCALENDAR
METHOD:PUBLISH
PRODID:-//design-museum.de//NONSGML iCalcreator 2.6//
VERSION:2.0
X-WR-TIMEZONE:Europe/Berlin
BEGIN:VEVENT
UID:20230407T185652CEST-71541sSrT5@design-museum.de
DTSTAMP:20230407T165652Z
CATEGORIES:Event
DESCRIPTION:Seit 2020 bereichert ein Garten des niederländischen Gestalter
 s Piet Oudolf den Vitra Campus. Der Landschaftsgärtner setzt auf mehrjäh
 rige Pflanzen und eine unkonventionelle Anordnung. Lernen Sie die Anlage b
 ei einem geführten Rundgang genauer kennen.\n \n 10\,00 € pro Person\, 
 ohne Anmeldung
DTSTART:20230705T100000
LOCATION:Vitra Design Museum
SUMMARY:Event - Oudolf Garten | MITTWOCHSMATINEE (DE)
END:VEVENT
END:VCALENDAR
