BEGIN:VCALENDAR
METHOD:PUBLISH
PRODID:-//design-museum.de//NONSGML iCalcreator 2.6//
VERSION:2.0
X-WR-TIMEZONE:Europe/Berlin
BEGIN:VEVENT
UID:20230407T185738CEST-2998UZpzpa@design-museum.de
DTSTAMP:20230407T165738Z
CATEGORIES:Event
DESCRIPTION:Julia Watson erforscht die Technologien indigener Völker. Ihr 
 Buch Lo-TEK: Design by Radical Indigenism stellt zahlreiche\n Beispiele vo
 r und verbindet dabei den Blickwinkel der Designerin und Architektin mit t
 raditionellem Wissen über Botanik und Artenvielfalt. Unser Gast spricht d
 arüber\, wie traditionelles Wissen über Botanik und Natur unsere Gärten
  und unser Leben bereichern kann.\n \n www.design-museum.de/YouTube
DTSTART:20230706T180000
LOCATION:YouTube
SUMMARY:Event - Botanik und Bauten: Julia Watson | DIGITAL TALK (EN)
END:VEVENT
END:VCALENDAR
