BEGIN:VCALENDAR
METHOD:PUBLISH
PRODID:-//design-museum.de//NONSGML iCalcreator 2.6//
VERSION:2.0
X-WR-TIMEZONE:Europe/Berlin
BEGIN:VEVENT
UID:20230407T185656CEST-7711owtieU@design-museum.de
DTSTAMP:20230407T165656Z
CATEGORIES:Workshop
DESCRIPTION:Traditionelle Handwerkstechniken sind immer wieder Ausgangspunk
 t und Inspiration fÃ¼r modernes Design. Nach einer EinfÃ¼hrung gestalten d
 ie TeilnehmerInnen dieses Workshops zusammen mit der Produktdesignerin Kat
 harina Berger aus farbigem Peddigrohr (Rattan) und anderen Materialien auÃ
 ŸergewÃ¶hnliche GefÃ¤ÃŸskulpturen und fantasievolle Objekte.\n \n 100\,00 
 â‚¬ pro Person\n Dauer: 7 Stunden
DTSTART:20230701T103000
LOCATION:Vitra Schaudepot
SUMMARY:Workshop - Flechtskulpturen | Special Workshop (DE)
END:VEVENT
END:VCALENDAR
