BEGIN:VCALENDAR
METHOD:PUBLISH
PRODID:-//design-museum.de//NONSGML iCalcreator 2.6//
VERSION:2.0
X-WR-TIMEZONE:Europe/Berlin
BEGIN:VEVENT
UID:20230407T185636CEST-26270L40Bn@design-museum.de
DTSTAMP:20230407T165636Z
CATEGORIES:Workshop
DESCRIPTION:14â€“18 Uhr\nSeife wurde erstmals von den Sumerern hergestellt\
 , die im 3. Jahrtausend v. Chr. im sÃ¼dlichen Mesopotamien lebten. Seitdem
  entstanden verschiedenste Verfahren zur Herstellung dieses festen Reinigu
 ngsmittels aus natÃ¼rlichen Fetten\, das gerne mit BlÃ¼ten und KrÃ¤utern a
 us dem Garten veredelt wird. Probieren Sie es selbst! In einem Workshop kÃ
 ¶nnen Erwachsene und Kinder ihre eigene Seife aus Granulat und getrocknete
 n BlÃ¼ten herstellen.\n \n Eintritt frei\, ohne Anmeldung
DTSTART:20230507T140000
LOCATION:Vitra Design Museum
SUMMARY:Workshop - Drop-In-Workshop: Seife selbst herstellen (DE)
END:VEVENT
END:VCALENDAR
