BEGIN:VCALENDAR
METHOD:PUBLISH
PRODID:-//design-museum.de//NONSGML iCalcreator 2.6//
VERSION:2.0
X-WR-TIMEZONE:Europe/Berlin
BEGIN:VEVENT
UID:20230407T185646CEST-3047nPWTvV@design-museum.de
DTSTAMP:20230407T165646Z
CATEGORIES:Weitere Führung
DESCRIPTION:Der Rehberger-Weg verknüpft über eine Länge von rund fünf K
 ilometern zwei Länder\, zwei Gemeinden\, zwei Kulturinstitutionen – und
  unzählige Geschichten. Er verläuft zwischen Weil am Rhein und Riehen\, 
 zwischen der Fondation Beyeler und dem Vitra Campus. Bei einem geführten 
 Spaziergang entlang der 24 Wegmarken des Künstlers Tobias Rehberger läss
 t sich eine einzigartig vielfältige Natur- und Kulturlandschaft erkunden.
 \n \n Um etwas tiefer in die Vielfalt der Umgebung der »24 Stops« einzut
 auchen\, bieten wir ExpertInnenführungen zu ausgewählten Themen an.\n \n
  Weitere Informationen hier
DTSTART:20230521T160000
LOCATION:Vitra Design Museum
SUMMARY:Weitere Führung - Expertenführung »Die Flora und Fauna links und
  rechts vom Rehberger-Weg« | FÜHRUNG (DE)
END:VEVENT
END:VCALENDAR
