BEGIN:VCALENDAR
METHOD:PUBLISH
PRODID:-//design-museum.de//NONSGML iCalcreator 2.6//
VERSION:2.0
X-WR-TIMEZONE:Europe/Berlin
BEGIN:VEVENT
UID:20230407T185642CEST-6536DU4NGf@design-museum.de
DTSTAMP:20230407T165642Z
CATEGORIES:Weitere FÃ¼hrung
DESCRIPTION:Der Rehberger-Weg verknÃ¼pft Ã¼ber eine LÃ¤nge von rund fÃ¼nf K
 ilometern zwei LÃ¤nder\, zwei Gemeinden\, zwei Kulturinstitutionen â€“ und
  unzÃ¤hlige Geschichten. Er verlÃ¤uft zwischen Weil am Rhein und Riehen\, 
 zwischen der Fondation Beyeler und dem Vitra Campus. Bei einem gefÃ¼hrten 
 Spaziergang entlang der 24 Wegmarken des KÃ¼nstlers Tobias Rehberger lÃ¤ss
 t sich eine einzigartig vielfÃ¤ltige Natur- und Kulturlandschaft erkunden.
 \n \n Um etwas tiefer in die Vielfalt der Umgebung der Â»24 StopsÂ« einzut
 auchen\, bieten wir ExpertInnenfÃ¼hrungen zu ausgewÃ¤hlten Themen an.\n \n
  Weitere Informationen hier
DTSTART:20230630T200000
LOCATION:Vitra Design Museum
SUMMARY:Weitere FÃ¼hrung - Rehberger Weg: AbendfÃ¼hrung mit Nachtbaden | FÃ
 œHRUNG (DE)
END:VEVENT
END:VCALENDAR
