BEGIN:VCALENDAR
METHOD:PUBLISH
PRODID:-//design-museum.de//NONSGML iCalcreator 2.6//
VERSION:2.0
X-WR-TIMEZONE:Europe/Berlin
BEGIN:VEVENT
UID:20230407T185652CEST-36753k9hXG@design-museum.de
DTSTAMP:20230407T165652Z
CATEGORIES:Ausstellungsführung
DESCRIPTION:Die umfassende Erweiterung des beliebten »Roboterkabinetts« m
 acht nun mehr als 1000 Spielzeugroboter\, Weltraumspielzeuge\, Comicfigure
 n\, Werbeprodukte und Folk Art aus der Sammlung des ehemaligen Vitra Chair
 man Rolf Fehlbaum zugänglich. Entdecken Sie eine Welt\, in der sich Indus
 trie\, Populärkultur und märchenhafte Phantasie zu einer Wunderkammer de
 r Moderne verbinden.
DTSTART:20230604T150000
LOCATION:Start: Vitra Schaudepot
SUMMARY:Ausstellungsführung - Wunderkammer | FÜHRUNG (DE)
END:VEVENT
END:VCALENDAR
