BEGIN:VCALENDAR
METHOD:PUBLISH
PRODID:-//design-museum.de//NONSGML iCalcreator 2.6//
VERSION:2.0
X-WR-TIMEZONE:Europe/Berlin
BEGIN:VEVENT
UID:20230407T185707CEST-19884sVm6A@design-museum.de
DTSTAMP:20230407T165707Z
CATEGORIES:Ausstellungsführung
DESCRIPTION:Gärten sind Spiegel von Identitäten\, Träumen und Visionen\,
  sie haben tiefe kulturelle Wurzeln und sind Ausdruck unserer Beziehung zu
 r Natur. Heute ist der Garten viel mehr als ein romantisches Idyll. Gärte
 n sind zu Orten der Avantgarde geworden\, dienen als Experimentierfelder f
 ür soziale Gerechtigkeit\, Biodiversität und eine nachhaltige Zukunft. M
 it »Garden Futures« präsentiert das Vitra Design Museum nun erstmals ei
 ne große Ausstellung zur Geschichte und Zukunft des modernen Gartens.
DTSTART:20230415T120000
DTEND:20230415T120000
LOCATION:Vitra Design Museum
SUMMARY:Ausstellungsführung - »Garden Futures« – Führung durch das Vi
 tra Design Museum (DE)
END:VEVENT
END:VCALENDAR
