BEGIN:VCALENDAR
METHOD:PUBLISH
PRODID:-//design-museum.de//NONSGML iCalcreator 2.6//
VERSION:2.0
X-WR-TIMEZONE:Europe/Berlin
BEGIN:VEVENT
UID:20230407T195412CEST-7758ejrOuh@design-museum.de
DTSTAMP:20230407T175412Z
CATEGORIES:Architekturführung
DESCRIPTION:
DTSTART:20230324T100000
DTEND:20230324T100000
LOCATION:Start: Vitra Schaudepot
SUMMARY:Architekturführung - Architekturführung (DE)
END:VEVENT
END:VCALENDAR
