BEGIN:VCALENDAR
METHOD:PUBLISH
PRODID:-//design-museum.de//NONSGML iCalcreator 2.6//
VERSION:2.0
X-WR-TIMEZONE:Europe/Berlin
BEGIN:VEVENT
UID:20230407T185649CEST-2017vvwttH@design-museum.de
DTSTAMP:20230407T165649Z
CATEGORIES:Architekturführung
DESCRIPTION:
DTSTART:20230609T140000
DTEND:20230609T140000
LOCATION:Start: Vitra Schaudepot
SUMMARY:Architekturführung - Architekturführung (DE)
END:VEVENT
END:VCALENDAR
