BEGIN:VCALENDAR
METHOD:PUBLISH
PRODID:-//design-museum.de//NONSGML iCalcreator 2.6//
VERSION:2.0
X-WR-TIMEZONE:Europe/Berlin
BEGIN:VEVENT
UID:20230407T190325CEST-28807Cv2uH@design-museum.de
DTSTAMP:20230407T170325Z
CATEGORIES:Architekturführung
DESCRIPTION:
DTSTART:20230407T140000
LOCATION:Start: Vitra Schaudepot
SUMMARY:Architekturführung - Architekturführung (DE)
END:VEVENT
END:VCALENDAR
