BEGIN:VCALENDAR
METHOD:PUBLISH
PRODID:-//design-museum.de//NONSGML iCalcreator 2.6//
VERSION:2.0
X-WR-TIMEZONE:Europe/Berlin
BEGIN:VEVENT
UID:20230407T195429CEST-9973vVpOtU@design-museum.de
DTSTAMP:20230407T175429Z
CATEGORIES:Architekturführung
DESCRIPTION:
DTSTART:20230319T140000
DTEND:20230319T140000
LOCATION:Start: Vitra Schaudepot
SUMMARY:Architekturführung - Architekturführung (EN)
END:VEVENT
END:VCALENDAR
