BEGIN:VCALENDAR
METHOD:PUBLISH
PRODID:-//design-museum.de//NONSGML iCalcreator 2.6//
VERSION:2.0
X-WR-TIMEZONE:Europe/Berlin
BEGIN:VEVENT
UID:20230407T185652CEST-4479i2TV1H@design-museum.de
DTSTAMP:20230407T165652Z
CATEGORIES:Architekturführung
DESCRIPTION:
DTSTART:20230505T120000
DTEND:20230505T120000
LOCATION:Start: Vitra Schaudepot
SUMMARY:Architekturführung - Architekturführung (EN)
END:VEVENT
END:VCALENDAR
