BEGIN:VCALENDAR
METHOD:PUBLISH
PRODID:-//design-museum.de//NONSGML iCalcreator 2.6//
VERSION:2.0
X-WR-TIMEZONE:Europe/Berlin
BEGIN:VEVENT
UID:20230407T185722CEST-84037URlmw@design-museum.de
DTSTAMP:20230407T165722Z
CATEGORIES:Architekturführung
DESCRIPTION:
DTSTART:20230702T120000
DTEND:20230702T120000
LOCATION:Start: Vitra Schaudepot
SUMMARY:Architekturführung - Architekturführung (EN)
END:VEVENT
END:VCALENDAR
